BEGIN:VCALENDAR
VERSION:2.0
PRODID:-//Larkspur Chamber of Commerce - ECPv6.13.2.1//NONSGML v1.0//EN
CALSCALE:GREGORIAN
METHOD:PUBLISH
X-WR-CALNAME:Larkspur Chamber of Commerce
X-ORIGINAL-URL:https://larkspurchamberofcommerce.com
X-WR-CALDESC:Events for Larkspur Chamber of Commerce
REFRESH-INTERVAL;VALUE=DURATION:PT1H
X-Robots-Tag:noindex
X-PUBLISHED-TTL:PT1H
BEGIN:VTIMEZONE
TZID:America/Detroit
BEGIN:DAYLIGHT
TZOFFSETFROM:-0500
TZOFFSETTO:-0400
TZNAME:EDT
DTSTART:20170312T070000
END:DAYLIGHT
BEGIN:STANDARD
TZOFFSETFROM:-0400
TZOFFSETTO:-0500
TZNAME:EST
DTSTART:20171105T060000
END:STANDARD
END:VTIMEZONE
BEGIN:VEVENT
DTSTART;TZID=America/Detroit:20170809T183000
DTEND;TZID=America/Detroit:20170909T083000
DTSTAMP:20260421T121433
CREATED:20211129T173304Z
LAST-MODIFIED:20211129T173304Z
UID:1577-1502303400-1504945800@larkspurchamberofcommerce.com
SUMMARY:Music in the Park: Rascal Martinez
DESCRIPTION:Mark your calendar\, FRIDAY\, SEPT 8th\, 6:30-8:30pm!! The Town of Larkspur and Larkspur Chamber of Commerce is thrilled to offer a third Music in the Park for the 2017 season! Join us for a evening of LIVE music featuring Rascal Martinez. This duo performs 50’s and 60’s all time hits that span generations!\nSpecial thank you to our event sponsors for making this possible:\nRobin’s Herd & Home Sitting Service\nTeam Lacey\, dedicated to Women’s Cancer Awareness\nLink Real Estate Group\nFull Circle Larkspur\nPur Essentials \nFood is available for purchase and adult beverages by donation. Bring your chairs and blankets and we will see you there!!
URL:https://larkspurchamberofcommerce.com/event/music-in-the-park-rascal-martinez/
LOCATION:CO
END:VEVENT
END:VCALENDAR