BEGIN:VCALENDAR
VERSION:2.0
PRODID:-//Larkspur Chamber of Commerce - ECPv6.13.2.1//NONSGML v1.0//EN
CALSCALE:GREGORIAN
METHOD:PUBLISH
X-WR-CALNAME:Larkspur Chamber of Commerce
X-ORIGINAL-URL:https://larkspurchamberofcommerce.com
X-WR-CALDESC:Events for Larkspur Chamber of Commerce
REFRESH-INTERVAL;VALUE=DURATION:PT1H
X-Robots-Tag:noindex
X-PUBLISHED-TTL:PT1H
BEGIN:VTIMEZONE
TZID:America/Denver
BEGIN:DAYLIGHT
TZOFFSETFROM:-0700
TZOFFSETTO:-0600
TZNAME:MDT
DTSTART:20230312T090000
END:DAYLIGHT
BEGIN:STANDARD
TZOFFSETFROM:-0600
TZOFFSETTO:-0700
TZNAME:MST
DTSTART:20231105T080000
END:STANDARD
END:VTIMEZONE
BEGIN:VEVENT
DTSTART;TZID=America/Denver:20230818T080000
DTEND;TZID=America/Denver:20230818T170000
DTSTAMP:20260425T165133
CREATED:20230818T200104Z
LAST-MODIFIED:20230818T200104Z
UID:5196-1692345600-1692378000@larkspurchamberofcommerce.com
SUMMARY:Larkspur Area Chamber Monthly Mixer - September 2023
DESCRIPTION:ALL ARE WELCOME!\n.\nJoin us at our Monthly Mixer to mix and mingle amongst other business peers and share your passion for your business and/or service. This month our event we will be hosted by Gary Conder’s Conderosa Studio\n788 Kenosha Drive\, Larkspur\, CO 80118\n.\nPlease note that this is an IN-PERSON MIXER.\n.\nThe mixer will start at 5:30 as usual. We hope you can join us for an evening full of informative conversations! \n 
URL:https://larkspurchamberofcommerce.com/event/mmsept/
LOCATION:CO
END:VEVENT
END:VCALENDAR