BEGIN:VCALENDAR
VERSION:2.0
PRODID:-//Larkspur Chamber of Commerce - ECPv6.13.2.1//NONSGML v1.0//EN
CALSCALE:GREGORIAN
METHOD:PUBLISH
X-ORIGINAL-URL:https://larkspurchamberofcommerce.com
X-WR-CALDESC:Events for Larkspur Chamber of Commerce
REFRESH-INTERVAL;VALUE=DURATION:PT1H
X-Robots-Tag:noindex
X-PUBLISHED-TTL:PT1H
BEGIN:VTIMEZONE
TZID:America/Denver
BEGIN:DAYLIGHT
TZOFFSETFROM:-0700
TZOFFSETTO:-0600
TZNAME:MDT
DTSTART:20230312T090000
END:DAYLIGHT
BEGIN:STANDARD
TZOFFSETFROM:-0600
TZOFFSETTO:-0700
TZNAME:MST
DTSTART:20231105T080000
END:STANDARD
END:VTIMEZONE
BEGIN:VEVENT
DTSTART;TZID=America/Denver:20230906T180000
DTEND;TZID=America/Denver:20230906T200000
DTSTAMP:20260425T150834
CREATED:20230302T231854Z
LAST-MODIFIED:20230828T185429Z
UID:4776-1694023200-1694030400@larkspurchamberofcommerce.com
SUMMARY:Music in the Park: WireWood Station
DESCRIPTION:Entertainment: \nWireWood Station (Genre: Bluegrass) \nFood vendors: \nTBD \n**Please note that this is a FREE event for ALL ages.  A $10 donation is encouraged to the Non-Profit of the Night**
URL:https://larkspurchamberofcommerce.com/event/music-in-the-park-wirewood-station/
LOCATION:Larkspur Community Park\, 8850 Spruce Mountain Rd\, Larkspur\, CO 80118\, CO\, 80118\, United States
END:VEVENT
END:VCALENDAR