BEGIN:VCALENDAR
VERSION:2.0
PRODID:-//Larkspur Chamber of Commerce - ECPv6.13.2.1//NONSGML v1.0//EN
CALSCALE:GREGORIAN
METHOD:PUBLISH
X-WR-CALNAME:Larkspur Chamber of Commerce
X-ORIGINAL-URL:https://larkspurchamberofcommerce.com
X-WR-CALDESC:Events for Larkspur Chamber of Commerce
REFRESH-INTERVAL;VALUE=DURATION:PT1H
X-Robots-Tag:noindex
X-PUBLISHED-TTL:PT1H
BEGIN:VTIMEZONE
TZID:America/Detroit
BEGIN:DAYLIGHT
TZOFFSETFROM:-0500
TZOFFSETTO:-0400
TZNAME:EDT
DTSTART:20230312T070000
END:DAYLIGHT
BEGIN:STANDARD
TZOFFSETFROM:-0400
TZOFFSETTO:-0500
TZNAME:EST
DTSTART:20231105T060000
END:STANDARD
END:VTIMEZONE
BEGIN:VEVENT
DTSTART;TZID=America/Detroit:20230916T100000
DTEND;TZID=America/Detroit:20230917T170000
DTSTAMP:20260425T150620
CREATED:20211126T155720Z
LAST-MODIFIED:20230306T184906Z
UID:1381-1694858400-1694970000@larkspurchamberofcommerce.com
SUMMARY:Autumn Arts & Crafts Fest
DESCRIPTION:Come join us for our 2023 Annual Larkspur Autumn Arts & Crafts Fest \nDate: September 16th and 17th\, 2023 \nTime: from 10am to 5pm \nLocation: Larkspur Community Park in the middle of the town of Larkspur\, CO. \nEveryone is welcome to come and enjoy\, there will be over 50 unique and colorful Arts and Crafts booths found at the Larkspur Autumn Arts and Crafts Fest held at the Larkspur Community Park. Opens 10 am and goes to 5 pm Saturday and Sunday\, in addition there are food vendors and more\, plan to make a day of it! \nBooth Cost: \n\nEarly Bird until April 15th: $50 daily or $100 for 2 days (1 booth rental)\nPricing starting April 16th: $75 daily or $150 for 2 days (1 booth rental)\nSpecial pricing for Chamber members\nNon-Profits receive 1 booth at no charge\n\nContact: Bonnie Schwam Bonnie@bonniesellscolorado.com OR info@larkspurchamberofcommerce.info
URL:https://larkspurchamberofcommerce.com/event/annual-autumn-arts-crafts-fest-2/
LOCATION:Larkspur Community Park\, 8850 Spruce Mountain Rd\, Larkspur\, CO 80118\, CO\, 80118\, United States
CATEGORIES:Chamber Events,Festivals,General,Town of Larkspur
ATTACH;FMTTYPE=image/jpeg:https://larkspurchamberofcommerce.com/wp-content/uploads/2023/02/LarkspurAutumnArtsCraft2023-scaled.jpg
ORGANIZER;CN="Bonnie Schwam":MAILTO:Bonnie@bonniesellscolorado.com
END:VEVENT
END:VCALENDAR