BEGIN:VCALENDAR
VERSION:2.0
PRODID:-//Larkspur Chamber of Commerce - ECPv6.13.2.1//NONSGML v1.0//EN
CALSCALE:GREGORIAN
METHOD:PUBLISH
X-WR-CALNAME:Larkspur Chamber of Commerce
X-ORIGINAL-URL:https://larkspurchamberofcommerce.com
X-WR-CALDESC:Events for Larkspur Chamber of Commerce
REFRESH-INTERVAL;VALUE=DURATION:PT1H
X-Robots-Tag:noindex
X-PUBLISHED-TTL:PT1H
BEGIN:VTIMEZONE
TZID:America/Denver
BEGIN:DAYLIGHT
TZOFFSETFROM:-0700
TZOFFSETTO:-0600
TZNAME:MDT
DTSTART:20230312T090000
END:DAYLIGHT
BEGIN:STANDARD
TZOFFSETFROM:-0600
TZOFFSETTO:-0700
TZNAME:MST
DTSTART:20231105T080000
END:STANDARD
END:VTIMEZONE
BEGIN:VEVENT
DTSTART;TZID=America/Denver:20231010T173000
DTEND;TZID=America/Denver:20231010T193000
DTSTAMP:20260422T143557
CREATED:20230908T170253Z
LAST-MODIFIED:20231009T233225Z
UID:5222-1696959000-1696966200@larkspurchamberofcommerce.com
SUMMARY:Larkspur Area Chamber Monthly Mixer - October 2023
DESCRIPTION:Join us at our Monthly Mixer to mix and mingle amongst other business peers and share your passion for your business and/or service. This month our event we will be hosted by Debbie & Bill Fischer at 12543 S. Perry Blvd.\, Larkspur CO 80118\n.\nPlease note that this is an IN-PERSON MIXER.\n.\nThe mixer will start at 5:30 as usual. We hope you can join us for an evening full of informative conversations! \nhttps://fb.me/e/1qJoMa4oz \n 
URL:https://larkspurchamberofcommerce.com/event/larkspur-area-chamber-monthly-mixer-october-2023/
LOCATION:CO
END:VEVENT
END:VCALENDAR