BEGIN:VCALENDAR
VERSION:2.0
PRODID:-//Larkspur Chamber of Commerce - ECPv6.13.2.1//NONSGML v1.0//EN
CALSCALE:GREGORIAN
METHOD:PUBLISH
X-ORIGINAL-URL:https://larkspurchamberofcommerce.com
X-WR-CALDESC:Events for Larkspur Chamber of Commerce
REFRESH-INTERVAL;VALUE=DURATION:PT1H
X-Robots-Tag:noindex
X-PUBLISHED-TTL:PT1H
BEGIN:VTIMEZONE
TZID:America/Detroit
BEGIN:DAYLIGHT
TZOFFSETFROM:-0500
TZOFFSETTO:-0400
TZNAME:EDT
DTSTART:20170312T070000
END:DAYLIGHT
BEGIN:STANDARD
TZOFFSETFROM:-0400
TZOFFSETTO:-0500
TZNAME:EST
DTSTART:20171105T060000
END:STANDARD
END:VTIMEZONE
BEGIN:VEVENT
DTSTART;TZID=America/Detroit:20170605T170000
DTEND;TZID=America/Detroit:20170705T000000
DTSTAMP:20260421T094918
CREATED:20211130T160627Z
LAST-MODIFIED:20211130T160627Z
UID:1616-1496682000-1499212800@larkspurchamberofcommerce.com
SUMMARY:20th Annual Boot Scootin' Boogie
DESCRIPTION:What is the Boot Scootin’ Boogie?\nThe Boot Scootin’ Boogie\, affectionately known as “The Boot\,” is a western-themed party full of dancing\, food\, libations\, games\, live & silent auctions all to raise money for our local gem of a school\, Larkspur Elementary. \nThis is the 20th year that the Larkspur Elementary PTO has put on this shindig & each year gets better & better! This is the party that all the other schools try to emulate\, but there is just no comparison! \nWe hope you will join us for another great night! So dust off your boots\, mark the calendars & buy those tickets soon!
URL:https://larkspurchamberofcommerce.com/event/20th-annual-boot-scootin-boogie/
LOCATION:Wiens’ Ranch\, 5567 S Perry Park Rd\, Sedalia\, CO 80135\, USA\, CO\, 80135\, United States
END:VEVENT
BEGIN:VEVENT
DTSTART;TZID=America/Detroit:20170714T183000
DTEND;TZID=America/Detroit:20170714T203000
DTSTAMP:20260421T094918
CREATED:20211129T173412Z
LAST-MODIFIED:20211129T173412Z
UID:1579-1500057000-1500064200@larkspurchamberofcommerce.com
SUMMARY:Music in the Park
DESCRIPTION:Music in the Park: Friday\, 7/14 6:30 -8:30pm at the Larkspur Community Park featuring ASHToNZ.  Free admission\, food and adult beverages available for purchase. Bring your blankets and lawn chairs and enjoy the evening!
URL:https://larkspurchamberofcommerce.com/event/music-in-the-park-2/
LOCATION:Larkspur Community Park\, 8850 Spruce Mountain Rd\, Larkspur\, CO 80118\, CO\, 80118\, United States
END:VEVENT
END:VCALENDAR