BEGIN:VCALENDAR
VERSION:2.0
PRODID:-//Larkspur Chamber of Commerce - ECPv6.13.2.1//NONSGML v1.0//EN
CALSCALE:GREGORIAN
METHOD:PUBLISH
X-ORIGINAL-URL:https://larkspurchamberofcommerce.com
X-WR-CALDESC:Events for Larkspur Chamber of Commerce
REFRESH-INTERVAL;VALUE=DURATION:PT1H
X-Robots-Tag:noindex
X-PUBLISHED-TTL:PT1H
BEGIN:VTIMEZONE
TZID:America/Denver
BEGIN:DAYLIGHT
TZOFFSETFROM:-0700
TZOFFSETTO:-0600
TZNAME:MDT
DTSTART:20230312T090000
END:DAYLIGHT
BEGIN:STANDARD
TZOFFSETFROM:-0600
TZOFFSETTO:-0700
TZNAME:MST
DTSTART:20231105T080000
END:STANDARD
END:VTIMEZONE
BEGIN:VEVENT
DTSTART;TZID=America/Denver:20230509T173000
DTEND;TZID=America/Denver:20230509T190000
DTSTAMP:20260425T195333
CREATED:20230331T204938Z
LAST-MODIFIED:20230501T183854Z
UID:4884-1683653400-1683658800@larkspurchamberofcommerce.com
SUMMARY:Larkspur Area Chamber Monthly Mixer - May 2023
DESCRIPTION:Join us at our Monthly Mixer to mix and mingle amongst other local business peers and community members.\n.\nThis month our event will be hosted by Dave Gardner at his Larkspur Office\n9164 Spruce Mountain Rd\, Larkspur\, CO 80118\n.Complimentary for Members & Non-Members courtesy of our Host
URL:https://larkspurchamberofcommerce.com/event/larkspur-area-chamber-monthly-mixer-may-2023-2/
LOCATION:Dave Gardner Real Estate Office\, 9164 Spruce Mountain Rd\, Larkspur\, CO\, 80118\, United States
END:VEVENT
END:VCALENDAR