BEGIN:VCALENDAR
VERSION:2.0
PRODID:-//Larkspur Chamber of Commerce - ECPv6.13.2.1//NONSGML v1.0//EN
CALSCALE:GREGORIAN
METHOD:PUBLISH
X-WR-CALNAME:Larkspur Chamber of Commerce
X-ORIGINAL-URL:https://larkspurchamberofcommerce.com
X-WR-CALDESC:Events for Larkspur Chamber of Commerce
REFRESH-INTERVAL;VALUE=DURATION:PT1H
X-Robots-Tag:noindex
X-PUBLISHED-TTL:PT1H
BEGIN:VTIMEZONE
TZID:America/Denver
BEGIN:DAYLIGHT
TZOFFSETFROM:-0700
TZOFFSETTO:-0600
TZNAME:MDT
DTSTART:20230312T090000
END:DAYLIGHT
BEGIN:STANDARD
TZOFFSETFROM:-0600
TZOFFSETTO:-0700
TZNAME:MST
DTSTART:20231105T080000
END:STANDARD
END:VTIMEZONE
BEGIN:VEVENT
DTSTART;TZID=America/Denver:20230609T180000
DTEND;TZID=America/Denver:20230609T200000
DTSTAMP:20260425T182242
CREATED:20230302T231247Z
LAST-MODIFIED:20230302T231304Z
UID:4759-1686333600-1686340800@larkspurchamberofcommerce.com
SUMMARY:Music in the Park: The Tattered Covers
DESCRIPTION:Entertainment: \nThe Tattered Covers – (Genre: Classic Rock) \nSponsors: \nTBD \nFood vendors: \nTBD \n**Please note that this is a FREE event for ALL ages.  A $10 donation is encouraged to the Non-Profit of the Night**
URL:https://larkspurchamberofcommerce.com/event/music-in-the-park-the-tattered-covers/
LOCATION:Larkspur Community Park\, 8850 Spruce Mountain Rd\, Larkspur\, CO 80118\, CO\, 80118\, United States
END:VEVENT
BEGIN:VEVENT
DTSTART;TZID=America/Denver:20230620T170000
DTEND;TZID=America/Denver:20230620T190000
DTSTAMP:20260425T182242
CREATED:20230531T215637Z
LAST-MODIFIED:20230531T215637Z
UID:4992-1687280400-1687287600@larkspurchamberofcommerce.com
SUMMARY:Monthly Mixer: June **SPECIAL TIME & PLACE**
DESCRIPTION:In collaborations with Tri-Lakes Chamber \nComplimentary for Members\n$10 for Non Members
URL:https://larkspurchamberofcommerce.com/event/monthly-mixer-june-special-time-place/
LOCATION:Spruce Mountain Ranch\, 14771 S Spruce Mountain Rd\, Larkspur\, CO 80118\, USA\, CO\, 80118\, United States
END:VEVENT
BEGIN:VEVENT
DTSTART;TZID=America/Denver:20230623T180000
DTEND;TZID=America/Denver:20230623T200000
DTSTAMP:20260425T182242
CREATED:20230302T231444Z
LAST-MODIFIED:20230302T231444Z
UID:4768-1687543200-1687550400@larkspurchamberofcommerce.com
SUMMARY:Music in the Park: Brad Eastin & The Tony Szajowski Quartet
DESCRIPTION:Entertainment: \nBrad Eastin & The Tony Szajowski Quartet – (Genre: Jazz) \nSponsors: \nTBD \nFood vendors: \nTBD \n**Please note that this is a FREE event for ALL ages.  A $10 donation is encouraged to the Non-Profit of the Night**
URL:https://larkspurchamberofcommerce.com/event/music-in-the-park-brad-eastin-the-tony-szajowski-quartet/
LOCATION:Larkspur Community Park\, 8850 Spruce Mountain Rd\, Larkspur\, CO 80118\, CO\, 80118\, United States
END:VEVENT
END:VCALENDAR