BEGIN:VCALENDAR
VERSION:2.0
PRODID:-//Larkspur Chamber of Commerce - ECPv6.13.2.1//NONSGML v1.0//EN
CALSCALE:GREGORIAN
METHOD:PUBLISH
X-WR-CALNAME:Larkspur Chamber of Commerce
X-ORIGINAL-URL:https://larkspurchamberofcommerce.com
X-WR-CALDESC:Events for Larkspur Chamber of Commerce
REFRESH-INTERVAL;VALUE=DURATION:PT1H
X-Robots-Tag:noindex
X-PUBLISHED-TTL:PT1H
BEGIN:VTIMEZONE
TZID:America/Denver
BEGIN:DAYLIGHT
TZOFFSETFROM:-0700
TZOFFSETTO:-0600
TZNAME:MDT
DTSTART:20230312T090000
END:DAYLIGHT
BEGIN:STANDARD
TZOFFSETFROM:-0600
TZOFFSETTO:-0700
TZNAME:MST
DTSTART:20231105T080000
END:STANDARD
END:VTIMEZONE
BEGIN:VEVENT
DTSTART;TZID=America/Denver:20230711T173000
DTEND;TZID=America/Denver:20230711T190000
DTSTAMP:20260425T165239
CREATED:20230705T174336Z
LAST-MODIFIED:20230705T174336Z
UID:5068-1689096600-1689102000@larkspurchamberofcommerce.com
SUMMARY:Larkspur Area Chamber Monthly Mixer - July 2023
DESCRIPTION:ALL ARE WELCOME!\n.\nJoin us at our Monthly Mixer to mix and mingle amongst other local business peers and community members.\n.\nThis month our event will be hosted by Team Lacey\n8850 Spruce Mountain Rd\, Cabin #1\, Larkspur\, CO 80118\n.\nComplimentary for Members | $10.00 for Non-Members at the door \n 
URL:https://larkspurchamberofcommerce.com/event/larkspur-area-chamber-monthly-mixer-july-2023/
LOCATION:8850 Spruce Mountain Rd\, Cabin #1\, Larkspur\, CO 80118\, 8850 Spruce Mountain Rd\, Cabin #1\, Larkspur\, 80118\, United States
ATTACH;FMTTYPE=image/jpeg:https://larkspurchamberofcommerce.com/wp-content/uploads/2023/07/Eventbrite-Images-1.jpg
END:VEVENT
BEGIN:VEVENT
DTSTART;TZID=America/Denver:20230714T180000
DTEND;TZID=America/Denver:20230714T200000
DTSTAMP:20260425T165239
CREATED:20230302T231552Z
LAST-MODIFIED:20230302T231552Z
UID:4770-1689357600-1689364800@larkspurchamberofcommerce.com
SUMMARY:Music in the Park: Rascal Martinez
DESCRIPTION:Entertainment: \nRascal Martinez – (Rock-A-Billy) \nSponsors: \nTBD \nFood vendors: \nTBD \n**Please note that this is a FREE event for ALL ages.  A $10 donation is encouraged to the Non-Profit of the Night**
URL:https://larkspurchamberofcommerce.com/event/music-in-the-park-rascal-martinez-2/
LOCATION:Larkspur Community Park\, 8850 Spruce Mountain Rd\, Larkspur\, CO 80118\, CO\, 80118\, United States
END:VEVENT
BEGIN:VEVENT
DTSTART;TZID=America/Denver:20230728T180000
DTEND;TZID=America/Denver:20230728T200000
DTSTAMP:20260425T165239
CREATED:20230302T231652Z
LAST-MODIFIED:20230302T231652Z
UID:4772-1690567200-1690574400@larkspurchamberofcommerce.com
SUMMARY:Music in the Park: Cari Dell
DESCRIPTION:Entertainment: \nCari Dell –  (Genre: Rock/Pop) \nSponsors: \nTBD \nFood vendors: \nTBD \n**Please note that this is a FREE event for ALL ages.  A $10 donation is encouraged to the Non-Profit of the Night**
URL:https://larkspurchamberofcommerce.com/event/music-in-the-park-cari-dell/
LOCATION:Larkspur Community Park\, 8850 Spruce Mountain Rd\, Larkspur\, CO 80118\, CO\, 80118\, United States
END:VEVENT
END:VCALENDAR